BEGIN:VCALENDAR
PRODID:-//nuDatenautomaten//framework iCal4j //DE
VERSION:2.0
CALSCALE:GREGORIAN
BEGIN:VTIMEZONE
TZID:Europe/Berlin
LAST-MODIFIED:20260306T231828Z
TZURL:https://www.tzurl.org/zoneinfo/Europe/Berlin
X-LIC-LOCATION:Europe/Berlin
X-PROLEPTIC-TZNAME:LMT
BEGIN:STANDARD
TZNAME:CET
TZOFFSETFROM:+005328
TZOFFSETTO:+0100
DTSTART:18930401T000000
END:STANDARD
BEGIN:DAYLIGHT
TZNAME:CEST
TZOFFSETFROM:+0100
TZOFFSETTO:+0200
DTSTART:19160430T230000
RDATE:19400401T020000
RDATE:19430329T020000
RDATE:19460414T020000
RDATE:19470406T030000
RDATE:19480418T020000
RDATE:19490410T020000
RDATE:19800406T020000
END:DAYLIGHT
BEGIN:STANDARD
TZNAME:CET
TZOFFSETFROM:+0200
TZOFFSETTO:+0100
DTSTART:19161001T010000
RDATE:19421102T030000
RDATE:19431004T030000
RDATE:19441002T030000
RDATE:19451118T030000
RDATE:19461007T030000
END:STANDARD
BEGIN:DAYLIGHT
TZNAME:CEST
TZOFFSETFROM:+0100
TZOFFSETTO:+0200
DTSTART:19170416T020000
RRULE:FREQ=YEARLY;UNTIL=19180415T010000Z;BYMONTH=4;BYDAY=3MO
END:DAYLIGHT
BEGIN:STANDARD
TZNAME:CET
TZOFFSETFROM:+0200
TZOFFSETTO:+0100
DTSTART:19170917T030000
RRULE:FREQ=YEARLY;UNTIL=19180916T010000Z;BYMONTH=9;BYDAY=3MO
END:STANDARD
BEGIN:DAYLIGHT
TZNAME:CEST
TZOFFSETFROM:+0100
TZOFFSETTO:+0200
DTSTART:19440403T020000
RRULE:FREQ=YEARLY;UNTIL=19450402T010000Z;BYMONTH=4;BYDAY=1MO
END:DAYLIGHT
BEGIN:DAYLIGHT
TZNAME:CEMT
TZOFFSETFROM:+0200
TZOFFSETTO:+0300
DTSTART:19450524T020000
RDATE:19470511T030000
END:DAYLIGHT
BEGIN:DAYLIGHT
TZNAME:CEST
TZOFFSETFROM:+0300
TZOFFSETTO:+0200
DTSTART:19450924T030000
RDATE:19470629T030000
END:DAYLIGHT
BEGIN:STANDARD
TZNAME:CET
TZOFFSETFROM:+0100
TZOFFSETTO:+0100
DTSTART:19460101T000000
RDATE:19800101T000000
END:STANDARD
BEGIN:STANDARD
TZNAME:CET
TZOFFSETFROM:+0200
TZOFFSETTO:+0100
DTSTART:19471005T030000
RRULE:FREQ=YEARLY;UNTIL=19491002T010000Z;BYMONTH=10;BYDAY=1SU
END:STANDARD
BEGIN:STANDARD
TZNAME:CET
TZOFFSETFROM:+0200
TZOFFSETTO:+0100
DTSTART:19800928T030000
RRULE:FREQ=YEARLY;UNTIL=19950924T010000Z;BYMONTH=9;BYDAY=-1SU
END:STANDARD
BEGIN:DAYLIGHT
TZNAME:CEST
TZOFFSETFROM:+0100
TZOFFSETTO:+0200
DTSTART:19810329T020000
RRULE:FREQ=YEARLY;BYMONTH=3;BYDAY=-1SU
END:DAYLIGHT
BEGIN:STANDARD
TZNAME:CET
TZOFFSETFROM:+0200
TZOFFSETTO:+0100
DTSTART:19961027T030000
RRULE:FREQ=YEARLY;BYMONTH=10;BYDAY=-1SU
END:STANDARD
END:VTIMEZONE
BEGIN:VEVENT
DTSTAMP:20260419T133111Z
DTSTART;TZID=Europe/Berlin:20130409T183000
DTEND;TZID=Europe/Berlin:20130409T213000
SUMMARY:2. Kreisklasse Staffel 4 Bergstädtischer SC Freiberg V vs SV Siltronic Freiberg III (65)
UID:600e4e55-4293-3ce1-e053-1fc7a80a6bb5
STATUS:CONFIRMED
LAST-MODIFIED:20160129T101515Z
DESCRIPTION:2. Kreisklasse Herren Staffel 4\nBegegnungs-Nr: 65\nHeim: Bergstädtischer SC Freiberg V\nGast: SV Siltronic Freiberg III\n
LOCATION:
CATEGORIES:Saison 2012/13
END:VEVENT
BEGIN:VEVENT
DTSTAMP:20260419T133111Z
DTSTART;TZID=Europe/Berlin:20121106T183000
DTEND;TZID=Europe/Berlin:20121106T213000
SUMMARY:2. Kreisklasse Staffel 4 Bergstädtischer SC Freiberg V vs FSV Clausnitz IV (21)
UID:600e4e4d-499a-3ce1-e053-1fc7a80a6bb5
STATUS:CONFIRMED
LAST-MODIFIED:20160129T101514Z
DESCRIPTION:2. Kreisklasse Herren Staffel 4\nBegegnungs-Nr: 21\nHeim: Bergstädtischer SC Freiberg V\nGast: FSV Clausnitz IV\n
LOCATION:
CATEGORIES:Saison 2012/13
END:VEVENT
BEGIN:VEVENT
DTSTAMP:20260419T133111Z
DTSTART;TZID=Europe/Berlin:20121211T183000
DTEND;TZID=Europe/Berlin:20121211T213000
SUMMARY:2. Kreisklasse Staffel 4 Bergstädtischer SC Freiberg V vs SSV 91 Brand-Erbisdorf II (33)
UID:600e4e4d-4e26-3ce1-e053-1fc7a80a6bb5
STATUS:CONFIRMED
LAST-MODIFIED:20160129T101515Z
DESCRIPTION:2. Kreisklasse Herren Staffel 4\nBegegnungs-Nr: 33\nHeim: Bergstädtischer SC Freiberg V\nGast: SSV 91 Brand-Erbisdorf II\n
LOCATION:
CATEGORIES:Saison 2012/13
END:VEVENT
BEGIN:VEVENT
DTSTAMP:20260419T133111Z
DTSTART;TZID=Europe/Berlin:20120918T183000
DTEND;TZID=Europe/Berlin:20120918T213000
SUMMARY:2. Kreisklasse Staffel 4 Bergstädtischer SC Freiberg V vs FSV Clausnitz III (5)
UID:600e4e4d-4e2a-3ce1-e053-1fc7a80a6bb5
STATUS:CONFIRMED
LAST-MODIFIED:20160129T101515Z
DESCRIPTION:2. Kreisklasse Herren Staffel 4\nBegegnungs-Nr: 5\nHeim: Bergstädtischer SC Freiberg V\nGast: FSV Clausnitz III\n
LOCATION:
CATEGORIES:Saison 2012/13
END:VEVENT
BEGIN:VEVENT
DTSTAMP:20260419T133111Z
DTSTART;TZID=Europe/Berlin:20130115T183000
DTEND;TZID=Europe/Berlin:20130115T213000
SUMMARY:2. Kreisklasse Staffel 4 Bergstädtischer SC Freiberg V vs SV Fortuna Langenau IV (37)
UID:600e4e4d-4e2e-3ce1-e053-1fc7a80a6bb5
STATUS:CONFIRMED
LAST-MODIFIED:20160129T101515Z
DESCRIPTION:2. Kreisklasse Herren Staffel 4\nBegegnungs-Nr: 37\nHeim: Bergstädtischer SC Freiberg V\nGast: SV Fortuna Langenau IV\n
LOCATION:
CATEGORIES:Saison 2012/13
END:VEVENT
BEGIN:VEVENT
DTSTAMP:20260419T133111Z
DTSTART;TZID=Europe/Berlin:20130129T183000
DTEND;TZID=Europe/Berlin:20130129T213000
SUMMARY:2. Kreisklasse Staffel 4 Bergstädtischer SC Freiberg V vs TSV 1888 Falkenau IV (45)
UID:600e4e4d-52a4-3ce1-e053-1fc7a80a6bb5
STATUS:CONFIRMED
LAST-MODIFIED:20160129T101515Z
DESCRIPTION:2. Kreisklasse Herren Staffel 4\nBegegnungs-Nr: 45\nHeim: Bergstädtischer SC Freiberg V\nGast: TSV 1888 Falkenau IV\n
LOCATION:
CATEGORIES:Saison 2012/13
END:VEVENT
BEGIN:VEVENT
DTSTAMP:20260419T133111Z
DTSTART;TZID=Europe/Berlin:20130226T183000
DTEND;TZID=Europe/Berlin:20130226T213000
SUMMARY:2. Kreisklasse Staffel 4 Bergstädtischer SC Freiberg V vs SpVgg. Zethau II (53)
UID:600e4e4d-52ab-3ce1-e053-1fc7a80a6bb5
STATUS:CONFIRMED
LAST-MODIFIED:20160129T101515Z
DESCRIPTION:2. Kreisklasse Herren Staffel 4\nBegegnungs-Nr: 53\nHeim: Bergstädtischer SC Freiberg V\nGast: SpVgg. Zethau II\n
LOCATION:
CATEGORIES:Saison 2012/13
END:VEVENT
BEGIN:VEVENT
DTSTAMP:20260419T133111Z
DTSTART;TZID=Europe/Berlin:20121009T183000
DTEND;TZID=Europe/Berlin:20121009T213000
SUMMARY:2. Kreisklasse Staffel 4 Bergstädtischer SC Freiberg V vs SV Mulda III (13)
UID:600e4e59-5488-3ce1-e053-1fc7a80a6bb5
STATUS:CONFIRMED
LAST-MODIFIED:20160129T101514Z
DESCRIPTION:2. Kreisklasse Herren Staffel 4\nBegegnungs-Nr: 13\nHeim: Bergstädtischer SC Freiberg V\nGast: SV Mulda III\n
LOCATION:
CATEGORIES:Saison 2012/13
END:VEVENT
BEGIN:VEVENT
DTSTAMP:20260419T133111Z
DTSTART;TZID=Europe/Berlin:20121020T090000
DTEND;TZID=Europe/Berlin:20121020T120000
SUMMARY:2. Kreisklasse Staffel 4 SpVgg. Zethau II vs Bergstädtischer SC Freiberg V (20)
UID:600e4e55-4a5a-3ce1-e053-1fc7a80a6bb5
STATUS:CONFIRMED
LAST-MODIFIED:20160129T101514Z
DESCRIPTION:2. Kreisklasse Herren Staffel 4\nBegegnungs-Nr: 20\nHeim: SpVgg. Zethau II\nGast: Bergstädtischer SC Freiberg V\n
LOCATION:
CATEGORIES:Saison 2012/13
END:VEVENT
BEGIN:VEVENT
DTSTAMP:20260419T133111Z
DTSTART;TZID=Europe/Berlin:20120925T190000
DTEND;TZID=Europe/Berlin:20120925T220000
SUMMARY:2. Kreisklasse Staffel 4 TSV 1888 Falkenau IV vs Bergstädtischer SC Freiberg V (9)
UID:600e4e55-65d4-3ce1-e053-1fc7a80a6bb5
STATUS:CONFIRMED
LAST-MODIFIED:20160129T101515Z
DESCRIPTION:2. Kreisklasse Herren Staffel 4\nBegegnungs-Nr: 9\nHeim: TSV 1888 Falkenau IV\nGast: Bergstädtischer SC Freiberg V\n
LOCATION:
CATEGORIES:Saison 2012/13
END:VEVENT
BEGIN:VEVENT
DTSTAMP:20260419T133111Z
DTSTART;TZID=Europe/Berlin:20130124T193000
DTEND;TZID=Europe/Berlin:20130124T223000
SUMMARY:2. Kreisklasse Staffel 4 FSV Clausnitz III vs Bergstädtischer SC Freiberg V (43)
UID:600e4e55-65d5-3ce1-e053-1fc7a80a6bb5
STATUS:CONFIRMED
LAST-MODIFIED:20160129T101515Z
DESCRIPTION:2. Kreisklasse Herren Staffel 4\nBegegnungs-Nr: 43\nHeim: FSV Clausnitz III\nGast: Bergstädtischer SC Freiberg V\n
LOCATION:
CATEGORIES:Saison 2012/13
END:VEVENT
BEGIN:VEVENT
DTSTAMP:20260419T133111Z
DTSTART;TZID=Europe/Berlin:20120913T190000
DTEND;TZID=Europe/Berlin:20120913T220000
SUMMARY:2. Kreisklasse Staffel 4 SV Fortuna Langenau IV vs Bergstädtischer SC Freiberg V (3)
UID:600e4e4d-4e22-3ce1-e053-1fc7a80a6bb5
STATUS:CONFIRMED
LAST-MODIFIED:20160129T101514Z
DESCRIPTION:2. Kreisklasse Herren Staffel 4\nBegegnungs-Nr: 3\nHeim: SV Fortuna Langenau IV\nGast: Bergstädtischer SC Freiberg V\n
LOCATION:
CATEGORIES:Saison 2012/13
END:VEVENT
BEGIN:VEVENT
DTSTAMP:20260419T133111Z
DTSTART;TZID=Europe/Berlin:20121129T183000
DTEND;TZID=Europe/Berlin:20121129T213000
SUMMARY:2. Kreisklasse Staffel 4 SV Siltronic Freiberg III vs Bergstädtischer SC Freiberg V (30)
UID:600e4e4d-4e23-3ce1-e053-1fc7a80a6bb5
STATUS:CONFIRMED
LAST-MODIFIED:20160129T101514Z
DESCRIPTION:2. Kreisklasse Herren Staffel 4\nBegegnungs-Nr: 30\nHeim: SV Siltronic Freiberg III\nGast: Bergstädtischer SC Freiberg V\n
LOCATION:
CATEGORIES:Saison 2012/13
END:VEVENT
BEGIN:VEVENT
DTSTAMP:20260419T133111Z
DTSTART;TZID=Europe/Berlin:20130314T193000
DTEND;TZID=Europe/Berlin:20130314T223000
SUMMARY:2. Kreisklasse Staffel 4 FSV Clausnitz IV vs Bergstädtischer SC Freiberg V (58)
UID:600e4e4d-52b0-3ce1-e053-1fc7a80a6bb5
STATUS:CONFIRMED
LAST-MODIFIED:20160129T101515Z
DESCRIPTION:2. Kreisklasse Herren Staffel 4\nBegegnungs-Nr: 58\nHeim: FSV Clausnitz IV\nGast: Bergstädtischer SC Freiberg V\n
LOCATION:
CATEGORIES:Saison 2012/13
END:VEVENT
BEGIN:VEVENT
DTSTAMP:20260419T133111Z
DTSTART;TZID=Europe/Berlin:20130417T190000
DTEND;TZID=Europe/Berlin:20130417T220000
SUMMARY:2. Kreisklasse Staffel 4 SSV 91 Brand-Erbisdorf II vs Bergstädtischer SC Freiberg V (70)
UID:600e4e4d-5755-3ce1-e053-1fc7a80a6bb5
STATUS:CONFIRMED
LAST-MODIFIED:20160129T101515Z
DESCRIPTION:2. Kreisklasse Herren Staffel 4\nBegegnungs-Nr: 70\nHeim: SSV 91 Brand-Erbisdorf II\nGast: Bergstädtischer SC Freiberg V\n
LOCATION:
CATEGORIES:Saison 2012/13
END:VEVENT
BEGIN:VEVENT
DTSTAMP:20260419T133111Z
DTSTART;TZID=Europe/Berlin:20130222T183000
DTEND;TZID=Europe/Berlin:20130222T213000
SUMMARY:2. Kreisklasse Staffel 4 SV Mulda III vs Bergstädtischer SC Freiberg V (51)
UID:600e4e59-5837-3ce1-e053-1fc7a80a6bb5
STATUS:CONFIRMED
LAST-MODIFIED:20160129T101515Z
DESCRIPTION:2. Kreisklasse Herren Staffel 4\nBegegnungs-Nr: 51\nHeim: SV Mulda III\nGast: Bergstädtischer SC Freiberg V\n
LOCATION:
CATEGORIES:Saison 2012/13
END:VEVENT
END:VCALENDAR
