BEGIN:VCALENDAR
PRODID:-//nuDatenautomaten//framework iCal4j //DE
VERSION:2.0
CALSCALE:GREGORIAN
BEGIN:VTIMEZONE
TZID:Europe/Berlin
LAST-MODIFIED:20260306T231828Z
TZURL:https://www.tzurl.org/zoneinfo/Europe/Berlin
X-LIC-LOCATION:Europe/Berlin
X-PROLEPTIC-TZNAME:LMT
BEGIN:STANDARD
TZNAME:CET
TZOFFSETFROM:+005328
TZOFFSETTO:+0100
DTSTART:18930401T000000
END:STANDARD
BEGIN:DAYLIGHT
TZNAME:CEST
TZOFFSETFROM:+0100
TZOFFSETTO:+0200
DTSTART:19160430T230000
RDATE:19400401T020000
RDATE:19430329T020000
RDATE:19460414T020000
RDATE:19470406T030000
RDATE:19480418T020000
RDATE:19490410T020000
RDATE:19800406T020000
END:DAYLIGHT
BEGIN:STANDARD
TZNAME:CET
TZOFFSETFROM:+0200
TZOFFSETTO:+0100
DTSTART:19161001T010000
RDATE:19421102T030000
RDATE:19431004T030000
RDATE:19441002T030000
RDATE:19451118T030000
RDATE:19461007T030000
END:STANDARD
BEGIN:DAYLIGHT
TZNAME:CEST
TZOFFSETFROM:+0100
TZOFFSETTO:+0200
DTSTART:19170416T020000
RRULE:FREQ=YEARLY;UNTIL=19180415T010000Z;BYMONTH=4;BYDAY=3MO
END:DAYLIGHT
BEGIN:STANDARD
TZNAME:CET
TZOFFSETFROM:+0200
TZOFFSETTO:+0100
DTSTART:19170917T030000
RRULE:FREQ=YEARLY;UNTIL=19180916T010000Z;BYMONTH=9;BYDAY=3MO
END:STANDARD
BEGIN:DAYLIGHT
TZNAME:CEST
TZOFFSETFROM:+0100
TZOFFSETTO:+0200
DTSTART:19440403T020000
RRULE:FREQ=YEARLY;UNTIL=19450402T010000Z;BYMONTH=4;BYDAY=1MO
END:DAYLIGHT
BEGIN:DAYLIGHT
TZNAME:CEMT
TZOFFSETFROM:+0200
TZOFFSETTO:+0300
DTSTART:19450524T020000
RDATE:19470511T030000
END:DAYLIGHT
BEGIN:DAYLIGHT
TZNAME:CEST
TZOFFSETFROM:+0300
TZOFFSETTO:+0200
DTSTART:19450924T030000
RDATE:19470629T030000
END:DAYLIGHT
BEGIN:STANDARD
TZNAME:CET
TZOFFSETFROM:+0100
TZOFFSETTO:+0100
DTSTART:19460101T000000
RDATE:19800101T000000
END:STANDARD
BEGIN:STANDARD
TZNAME:CET
TZOFFSETFROM:+0200
TZOFFSETTO:+0100
DTSTART:19471005T030000
RRULE:FREQ=YEARLY;UNTIL=19491002T010000Z;BYMONTH=10;BYDAY=1SU
END:STANDARD
BEGIN:STANDARD
TZNAME:CET
TZOFFSETFROM:+0200
TZOFFSETTO:+0100
DTSTART:19800928T030000
RRULE:FREQ=YEARLY;UNTIL=19950924T010000Z;BYMONTH=9;BYDAY=-1SU
END:STANDARD
BEGIN:DAYLIGHT
TZNAME:CEST
TZOFFSETFROM:+0100
TZOFFSETTO:+0200
DTSTART:19810329T020000
RRULE:FREQ=YEARLY;BYMONTH=3;BYDAY=-1SU
END:DAYLIGHT
BEGIN:STANDARD
TZNAME:CET
TZOFFSETFROM:+0200
TZOFFSETTO:+0100
DTSTART:19961027T030000
RRULE:FREQ=YEARLY;BYMONTH=10;BYDAY=-1SU
END:STANDARD
END:VTIMEZONE
BEGIN:VEVENT
DTSTAMP:20260421T144744Z
DTSTART;TZID=Europe/Berlin:20250905T200000
DTEND;TZID=Europe/Berlin:20250905T230000
SUMMARY:2. Bezirksklasse 6 TTV Warburg II vs SV Teutonia Ossendorf II (7)
UID:bbdc1cd0-9b26-46c4-8bec-55d6fd895890
STATUS:CONFIRMED
LAST-MODIFIED:20250924T082147Z
DESCRIPTION:2. Bezirksklasse 6 Erwachsene\nBegegnungs-Nr: 7\nHeim: TTV Warburg II\nGast: SV Teutonia Ossendorf II\n\nAdresse: Bernhardistraße 45\, 34414  Warburg\n
LOCATION:Bernhardistraße 45\, 34414  Warburg
CATEGORIES:Saison 2025/26
END:VEVENT
BEGIN:VEVENT
DTSTAMP:20260421T144744Z
DTSTART;TZID=Europe/Berlin:20251128T200000
DTEND;TZID=Europe/Berlin:20251128T230000
SUMMARY:2. Bezirksklasse 6 TTV Warburg II vs FC Bühne IV (49)
UID:89250f5c-d87c-454d-a2c5-c2242d5bef74
STATUS:CONFIRMED
LAST-MODIFIED:20251214T184300Z
DESCRIPTION:2. Bezirksklasse 6 Erwachsene\nBegegnungs-Nr: 49\nHeim: TTV Warburg II\nGast: FC Bühne IV\n\nAdresse: Bernhardistraße 45\, 34414  Warburg\n
LOCATION:Bernhardistraße 45\, 34414  Warburg
CATEGORIES:Saison 2025/26
END:VEVENT
BEGIN:VEVENT
DTSTAMP:20260421T144744Z
DTSTART;TZID=Europe/Berlin:20251114T200000
DTEND;TZID=Europe/Berlin:20251114T230000
SUMMARY:2. Bezirksklasse 6 TTV Warburg II vs TTC Fortuna Frohnhausen (38)
UID:1f458cc5-1285-4d7d-a927-6054505eb75d
STATUS:CONFIRMED
LAST-MODIFIED:20251203T212031Z
DESCRIPTION:2. Bezirksklasse 6 Erwachsene\nBegegnungs-Nr: 38\nHeim: TTV Warburg II\nGast: TTC Fortuna Frohnhausen\n\nAdresse: Bernhardistraße 45\, 34414  Warburg\n
LOCATION:Bernhardistraße 45\, 34414  Warburg
CATEGORIES:Saison 2025/26
END:VEVENT
BEGIN:VEVENT
DTSTAMP:20260421T144744Z
DTSTART;TZID=Europe/Berlin:20250829T200000
DTEND;TZID=Europe/Berlin:20250829T230000
SUMMARY:2. Bezirksklasse 6 TTV Warburg II vs TTV GW Daseburg II (2)
UID:d71f5bab-112a-475f-9941-2277090e5d22
STATUS:CONFIRMED
LAST-MODIFIED:20250923T082339Z
DESCRIPTION:2. Bezirksklasse 6 Erwachsene\nBegegnungs-Nr: 2\nHeim: TTV Warburg II\nGast: TTV GW Daseburg II\n\nAdresse: Bernhardistraße 45\, 34414  Warburg\n
LOCATION:Bernhardistraße 45\, 34414  Warburg
CATEGORIES:Saison 2025/26
END:VEVENT
BEGIN:VEVENT
DTSTAMP:20260421T144744Z
DTSTART;TZID=Europe/Berlin:20251010T200000
DTEND;TZID=Europe/Berlin:20251010T230000
SUMMARY:2. Bezirksklasse 6 TTV Warburg II vs DJK Adler Brakel III (28)
UID:1d711187-a354-4d5b-bfbc-0e28f79f1259
STATUS:CONFIRMED
LAST-MODIFIED:20251103T200312Z
DESCRIPTION:2. Bezirksklasse 6 Erwachsene\nBegegnungs-Nr: 28\nHeim: TTV Warburg II\nGast: DJK Adler Brakel III\n\nAdresse: Bernhardistraße 45\, 34414  Warburg\n
LOCATION:Bernhardistraße 45\, 34414  Warburg
CATEGORIES:Saison 2025/26
END:VEVENT
BEGIN:VEVENT
DTSTAMP:20260421T144744Z
DTSTART;TZID=Europe/Berlin:20250919T200000
DTEND;TZID=Europe/Berlin:20250919T230000
SUMMARY:2. Bezirksklasse 6 TTV Warburg II vs SV Menne IV (18)
UID:1f0188eb-ad91-4b8e-b007-a3a7c5a936a6
STATUS:CONFIRMED
LAST-MODIFIED:20251017T091754Z
DESCRIPTION:2. Bezirksklasse 6 Erwachsene\nBegegnungs-Nr: 18\nHeim: TTV Warburg II\nGast: SV Menne IV\n\nAdresse: Bernhardistraße 45\, 34414  Warburg\n
LOCATION:Bernhardistraße 45\, 34414  Warburg
CATEGORIES:Saison 2025/26
END:VEVENT
BEGIN:VEVENT
DTSTAMP:20260421T144744Z
DTSTART;TZID=Europe/Berlin:20260320T200000
DTEND;TZID=Europe/Berlin:20260320T230000
SUMMARY:2. Bezirksklasse 6 TTV Warburg II vs TTG Ikenhausen III (44)
UID:fdb173b4-5dca-4b4b-b07d-c347f69d0563
STATUS:CONFIRMED
LAST-MODIFIED:20260412T195612Z
DESCRIPTION:2. Bezirksklasse 6 Erwachsene\nBegegnungs-Nr: 44\nHeim: TTV Warburg II\nGast: TTG Ikenhausen III\n\nAdresse: Bernhardistraße 45\, 34414  Warburg\n
LOCATION:Bernhardistraße 45\, 34414  Warburg
CATEGORIES:Saison 2025/26
END:VEVENT
BEGIN:VEVENT
DTSTAMP:20260421T144744Z
DTSTART;TZID=Europe/Berlin:20260417T200000
DTEND;TZID=Europe/Berlin:20260417T230000
SUMMARY:2. Bezirksklasse 6 TTV Warburg II vs TTV Borgholz II (24)
UID:00585f5f-17a2-4c2d-b40f-061250ad13dc
STATUS:CONFIRMED
LAST-MODIFIED:20260217T204627Z
DESCRIPTION:2. Bezirksklasse 6 Erwachsene\nBegegnungs-Nr: 24\nHeim: TTV Warburg II\nGast: TTV Borgholz II\n\nAdresse: Bernhardistraße 45\, 34414  Warburg\n
LOCATION:Bernhardistraße 45\, 34414  Warburg
CATEGORIES:Saison 2025/26
END:VEVENT
BEGIN:VEVENT
DTSTAMP:20260421T144744Z
DTSTART;TZID=Europe/Berlin:20260130T200000
DTEND;TZID=Europe/Berlin:20260130T230000
SUMMARY:2. Bezirksklasse 6 TTV Warburg II vs FC Bühne III (14)
UID:b5ab350e-e738-47fd-8b6c-9428129a424e
STATUS:CONFIRMED
LAST-MODIFIED:20260215T181050Z
DESCRIPTION:2. Bezirksklasse 6 Erwachsene\nBegegnungs-Nr: 14\nHeim: TTV Warburg II\nGast: FC Bühne III\n\nAdresse: Bernhardistraße 45\, 34414  Warburg\n
LOCATION:Bernhardistraße 45\, 34414  Warburg
CATEGORIES:Saison 2025/26
END:VEVENT
BEGIN:VEVENT
DTSTAMP:20260421T144744Z
DTSTART;TZID=Europe/Berlin:20251119T200000
DTEND;TZID=Europe/Berlin:20251119T230000
SUMMARY:2. Bezirksklasse 6 TTG Ikenhausen III vs TTV Warburg II (42)
UID:58053b29-bf89-4230-af1a-da57cfb02177
STATUS:CONFIRMED
LAST-MODIFIED:20251210T201426Z
DESCRIPTION:2. Bezirksklasse 6 Erwachsene\nBegegnungs-Nr: 42\nHeim: TTG Ikenhausen III\nGast: TTV Warburg II\n\nAdresse: Ikenhausen\, Hallenweg\, 34439 Willebadessen\n
LOCATION:Ikenhausen\, Hallenweg\, 34439 Willebadessen
CATEGORIES:Saison 2025/26
END:VEVENT
BEGIN:VEVENT
DTSTAMP:20260421T144744Z
DTSTART;TZID=Europe/Berlin:20251002T200000
DTEND;TZID=Europe/Berlin:20251002T230000
SUMMARY:2. Bezirksklasse 6 TTV Borgholz II vs TTV Warburg II (22)
UID:10bbefa3-ec63-4163-85e2-7f3a5dc2e26e
STATUS:CONFIRMED
LAST-MODIFIED:20251022T194115Z
DESCRIPTION:2. Bezirksklasse 6 Erwachsene\nBegegnungs-Nr: 22\nHeim: TTV Borgholz II\nGast: TTV Warburg II\n\nAdresse: Am Lullberg\, 34434 Borgentreich-Borgholz\n
LOCATION:Am Lullberg\, 34434 Borgentreich-Borgholz
CATEGORIES:Saison 2025/26
END:VEVENT
BEGIN:VEVENT
DTSTAMP:20260421T144744Z
DTSTART;TZID=Europe/Berlin:20250913T183000
DTEND;TZID=Europe/Berlin:20250913T213000
SUMMARY:2. Bezirksklasse 6 FC Bühne III vs TTV Warburg II (15)
UID:873d4901-ff69-41d7-a440-9d746aac7935
STATUS:CONFIRMED
LAST-MODIFIED:20251017T090939Z
DESCRIPTION:2. Bezirksklasse 6 Erwachsene\nBegegnungs-Nr: 15\nHeim: FC Bühne III\nGast: TTV Warburg II\n\nAdresse: Am Schützenplatz\, 34434 Borgentreich\n
LOCATION:Am Schützenplatz\, 34434 Borgentreich
CATEGORIES:Saison 2025/26
END:VEVENT
BEGIN:VEVENT
DTSTAMP:20260421T144744Z
DTSTART;TZID=Europe/Berlin:20260327T200000
DTEND;TZID=Europe/Berlin:20260327T230000
SUMMARY:2. Bezirksklasse 6 FC Bühne IV vs TTV Warburg II (48)
UID:76f3baae-7914-47b1-a4c2-65a637c60591
STATUS:CONFIRMED
LAST-MODIFIED:20260416T194528Z
DESCRIPTION:2. Bezirksklasse 6 Erwachsene\nBegegnungs-Nr: 48\nHeim: FC Bühne IV\nGast: TTV Warburg II\n\nAdresse: Walme 5\, Ortsteil Bühne\, 34434 Borgentreich\n
LOCATION:Walme 5\, Ortsteil Bühne\, 34434 Borgentreich
CATEGORIES:Saison 2025/26
END:VEVENT
BEGIN:VEVENT
DTSTAMP:20260421T144744Z
DTSTART;TZID=Europe/Berlin:20260313T200000
DTEND;TZID=Europe/Berlin:20260313T230000
SUMMARY:2. Bezirksklasse 6 TTC Fortuna Frohnhausen vs TTV Warburg II (39)
UID:30e89368-0f9a-4d77-8a40-e17b13621948
STATUS:CONFIRMED
LAST-MODIFIED:20260324T204822Z
DESCRIPTION:2. Bezirksklasse 6 Erwachsene\nBegegnungs-Nr: 39\nHeim: TTC Fortuna Frohnhausen\nGast: TTV Warburg II\n\nAdresse: Bartholomäusstr.\, 33034 Brakel-Frohnhausen\n
LOCATION:Bartholomäusstr.\, 33034 Brakel-Frohnhausen
CATEGORIES:Saison 2025/26
END:VEVENT
BEGIN:VEVENT
DTSTAMP:20260421T144744Z
DTSTART;TZID=Europe/Berlin:20260114T200000
DTEND;TZID=Europe/Berlin:20260114T230000
SUMMARY:2. Bezirksklasse 6 TTV GW Daseburg II vs TTV Warburg II (1)
UID:55dbf9db-c1d0-4328-8688-91adcaea187a
STATUS:CONFIRMED
LAST-MODIFIED:20260118T203837Z
DESCRIPTION:2. Bezirksklasse 6 Erwachsene\nBegegnungs-Nr: 1\nHeim: TTV GW Daseburg II\nGast: TTV Warburg II\n\nAdresse: Alexanderstraße 11\, 34414 Warburg-Daseburg\n
LOCATION:Alexanderstraße 11\, 34414 Warburg-Daseburg
CATEGORIES:Saison 2025/26
END:VEVENT
BEGIN:VEVENT
DTSTAMP:20260421T144744Z
DTSTART;TZID=Europe/Berlin:20260223T194500
DTEND;TZID=Europe/Berlin:20260223T224500
SUMMARY:2. Bezirksklasse 6 DJK Adler Brakel III vs TTV Warburg II (26)
UID:b2b63b83-a07a-428e-9a52-3a3398242308
STATUS:CONFIRMED
LAST-MODIFIED:20260303T205240Z
DESCRIPTION:2. Bezirksklasse 6 Erwachsene\nBegegnungs-Nr: 26\nHeim: DJK Adler Brakel III\nGast: TTV Warburg II\n\nAdresse: Klöckerstraße\, 33034 Brakel\n
LOCATION:Klöckerstraße\, 33034 Brakel
CATEGORIES:Saison 2025/26
END:VEVENT
BEGIN:VEVENT
DTSTAMP:20260421T144744Z
DTSTART;TZID=Europe/Berlin:20260205T200000
DTEND;TZID=Europe/Berlin:20260205T230000
SUMMARY:2. Bezirksklasse 6 SV Menne IV vs TTV Warburg II (19)
UID:95d5fffc-5692-4cff-a35a-bc67e2180e1c
STATUS:CONFIRMED
LAST-MODIFIED:20260215T181415Z
DESCRIPTION:2. Bezirksklasse 6 Erwachsene\nBegegnungs-Nr: 19\nHeim: SV Menne IV\nGast: TTV Warburg II\n\nAdresse: Lange Wanne\, 34414 Warburg-Menne\n
LOCATION:Lange Wanne\, 34414 Warburg-Menne
CATEGORIES:Saison 2025/26
END:VEVENT
BEGIN:VEVENT
DTSTAMP:20260421T144744Z
DTSTART;TZID=Europe/Berlin:20260123T200000
DTEND;TZID=Europe/Berlin:20260123T230000
SUMMARY:2. Bezirksklasse 6 SV Teutonia Ossendorf II vs TTV Warburg II (9)
UID:3ca3f0c3-c50c-4fb6-8c05-c271d7d909b8
STATUS:CONFIRMED
LAST-MODIFIED:20260211T210137Z
DESCRIPTION:2. Bezirksklasse 6 Erwachsene\nBegegnungs-Nr: 9\nHeim: SV Teutonia Ossendorf II\nGast: TTV Warburg II\n\nAdresse: Nörder Straße\, 34414 Warburg\n
LOCATION:Nörder Straße\, 34414 Warburg
CATEGORIES:Saison 2025/26
END:VEVENT
END:VCALENDAR
