BEGIN:VCALENDAR
PRODID:-//nuDatenautomaten//framework iCal4j //DE
VERSION:2.0
CALSCALE:GREGORIAN
BEGIN:VTIMEZONE
TZID:Europe/Berlin
LAST-MODIFIED:20260306T231828Z
TZURL:https://www.tzurl.org/zoneinfo/Europe/Berlin
X-LIC-LOCATION:Europe/Berlin
X-PROLEPTIC-TZNAME:LMT
BEGIN:STANDARD
TZNAME:CET
TZOFFSETFROM:+005328
TZOFFSETTO:+0100
DTSTART:18930401T000000
END:STANDARD
BEGIN:DAYLIGHT
TZNAME:CEST
TZOFFSETFROM:+0100
TZOFFSETTO:+0200
DTSTART:19160430T230000
RDATE:19400401T020000
RDATE:19430329T020000
RDATE:19460414T020000
RDATE:19470406T030000
RDATE:19480418T020000
RDATE:19490410T020000
RDATE:19800406T020000
END:DAYLIGHT
BEGIN:STANDARD
TZNAME:CET
TZOFFSETFROM:+0200
TZOFFSETTO:+0100
DTSTART:19161001T010000
RDATE:19421102T030000
RDATE:19431004T030000
RDATE:19441002T030000
RDATE:19451118T030000
RDATE:19461007T030000
END:STANDARD
BEGIN:DAYLIGHT
TZNAME:CEST
TZOFFSETFROM:+0100
TZOFFSETTO:+0200
DTSTART:19170416T020000
RRULE:FREQ=YEARLY;UNTIL=19180415T010000Z;BYMONTH=4;BYDAY=3MO
END:DAYLIGHT
BEGIN:STANDARD
TZNAME:CET
TZOFFSETFROM:+0200
TZOFFSETTO:+0100
DTSTART:19170917T030000
RRULE:FREQ=YEARLY;UNTIL=19180916T010000Z;BYMONTH=9;BYDAY=3MO
END:STANDARD
BEGIN:DAYLIGHT
TZNAME:CEST
TZOFFSETFROM:+0100
TZOFFSETTO:+0200
DTSTART:19440403T020000
RRULE:FREQ=YEARLY;UNTIL=19450402T010000Z;BYMONTH=4;BYDAY=1MO
END:DAYLIGHT
BEGIN:DAYLIGHT
TZNAME:CEMT
TZOFFSETFROM:+0200
TZOFFSETTO:+0300
DTSTART:19450524T020000
RDATE:19470511T030000
END:DAYLIGHT
BEGIN:DAYLIGHT
TZNAME:CEST
TZOFFSETFROM:+0300
TZOFFSETTO:+0200
DTSTART:19450924T030000
RDATE:19470629T030000
END:DAYLIGHT
BEGIN:STANDARD
TZNAME:CET
TZOFFSETFROM:+0100
TZOFFSETTO:+0100
DTSTART:19460101T000000
RDATE:19800101T000000
END:STANDARD
BEGIN:STANDARD
TZNAME:CET
TZOFFSETFROM:+0200
TZOFFSETTO:+0100
DTSTART:19471005T030000
RRULE:FREQ=YEARLY;UNTIL=19491002T010000Z;BYMONTH=10;BYDAY=1SU
END:STANDARD
BEGIN:STANDARD
TZNAME:CET
TZOFFSETFROM:+0200
TZOFFSETTO:+0100
DTSTART:19800928T030000
RRULE:FREQ=YEARLY;UNTIL=19950924T010000Z;BYMONTH=9;BYDAY=-1SU
END:STANDARD
BEGIN:DAYLIGHT
TZNAME:CEST
TZOFFSETFROM:+0100
TZOFFSETTO:+0200
DTSTART:19810329T020000
RRULE:FREQ=YEARLY;BYMONTH=3;BYDAY=-1SU
END:DAYLIGHT
BEGIN:STANDARD
TZNAME:CET
TZOFFSETFROM:+0200
TZOFFSETTO:+0100
DTSTART:19961027T030000
RRULE:FREQ=YEARLY;BYMONTH=10;BYDAY=-1SU
END:STANDARD
END:VTIMEZONE
BEGIN:VEVENT
DTSTAMP:20260420T021632Z
DTSTART;TZID=Europe/Berlin:20251120T191500
DTEND;TZID=Europe/Berlin:20251120T221500
SUMMARY:1. Kreisliga 4 TTC Protesia Hamburg II vs SG HTB 65/Harburger SC (27)
UID:d48b153d-d46c-4ad2-8e31-f60ab07e38f1
STATUS:CONFIRMED
LAST-MODIFIED:20251110T084126Z
DESCRIPTION:1. Kreisliga 4\nBegegnungs-Nr: 27\nHeim: TTC Protesia Hamburg II\nGast: SG HTB 65/Harburger SC\n\nAdresse: Imstedt 18-20 über Schulhof\, 22083 Hamburg\n
LOCATION:Imstedt 18-20 über Schulhof\, 22083 Hamburg
CATEGORIES:Saison 2025/26
END:VEVENT
BEGIN:VEVENT
DTSTAMP:20260420T021632Z
DTSTART;TZID=Europe/Berlin:20251127T191500
DTEND;TZID=Europe/Berlin:20251127T221500
SUMMARY:1. Kreisliga 4 TTC Protesia Hamburg II vs GW Harburg V (37)
UID:4e64cbb8-9212-4f4c-b544-a0036d1047e5
STATUS:CONFIRMED
LAST-MODIFIED:20251203T104959Z
DESCRIPTION:1. Kreisliga 4\nBegegnungs-Nr: 37\nHeim: TTC Protesia Hamburg II\nGast: GW Harburg V\n\nAdresse: Imstedt 18-20 über Schulhof\, 22083 Hamburg\n
LOCATION:Imstedt 18-20 über Schulhof\, 22083 Hamburg
CATEGORIES:Saison 2025/26
END:VEVENT
BEGIN:VEVENT
DTSTAMP:20260420T021632Z
DTSTART;TZID=Europe/Berlin:20260129T191500
DTEND;TZID=Europe/Berlin:20260129T221500
SUMMARY:1. Kreisliga 4 TTC Protesia Hamburg II vs TV Fischbek II (6)
UID:a8e6985e-1ac2-4bd1-bff9-8872d2722dd9
STATUS:CONFIRMED
DESCRIPTION:1. Kreisliga 4\nBegegnungs-Nr: 6\nHeim: TTC Protesia Hamburg II\nGast: TV Fischbek II\n\nAdresse: Imstedt 18-20 über Schulhof\, 22083 Hamburg\n
LOCATION:Imstedt 18-20 über Schulhof\, 22083 Hamburg
CATEGORIES:Saison 2025/26
END:VEVENT
BEGIN:VEVENT
DTSTAMP:20260420T021632Z
DTSTART;TZID=Europe/Berlin:20260205T191500
DTEND;TZID=Europe/Berlin:20260205T221500
SUMMARY:1. Kreisliga 4 TTC Protesia Hamburg II vs TTSG Urania-Bramfeld VII (12)
UID:92a02947-5198-42e7-a931-67f6f6a4b181
STATUS:CONFIRMED
DESCRIPTION:1. Kreisliga 4\nBegegnungs-Nr: 12\nHeim: TTC Protesia Hamburg II\nGast: TTSG Urania-Bramfeld VII\n\nAdresse: Imstedt 18-20 über Schulhof\, 22083 Hamburg\n
LOCATION:Imstedt 18-20 über Schulhof\, 22083 Hamburg
CATEGORIES:Saison 2025/26
END:VEVENT
BEGIN:VEVENT
DTSTAMP:20260420T021632Z
DTSTART;TZID=Europe/Berlin:20260409T191500
DTEND;TZID=Europe/Berlin:20260409T221500
SUMMARY:1. Kreisliga 4 TTC Protesia Hamburg II vs USC Paloma Hamburg II (22)
UID:cf42693f-a2df-4456-ac17-97de435bc937
STATUS:CONFIRMED
LAST-MODIFIED:20260209T091312Z
DESCRIPTION:1. Kreisliga 4\nBegegnungs-Nr: 22\nHeim: TTC Protesia Hamburg II\nGast: USC Paloma Hamburg II\n\nAdresse: Imstedt 18-20 über Schulhof\, 22083 Hamburg\n
LOCATION:Imstedt 18-20 über Schulhof\, 22083 Hamburg
CATEGORIES:Saison 2025/26
END:VEVENT
BEGIN:VEVENT
DTSTAMP:20260420T021632Z
DTSTART;TZID=Europe/Berlin:20250918T191500
DTEND;TZID=Europe/Berlin:20250918T221500
SUMMARY:1. Kreisliga 4 TTC Protesia Hamburg II vs TTV Harburg (2)
UID:c1ebacdd-2bc7-483d-b480-9cdfe779ac7c
STATUS:CONFIRMED
DESCRIPTION:1. Kreisliga 4\nBegegnungs-Nr: 2\nHeim: TTC Protesia Hamburg II\nGast: TTV Harburg\n\nAdresse: Imstedt 18-20 über Schulhof\, 22083 Hamburg\n
LOCATION:Imstedt 18-20 über Schulhof\, 22083 Hamburg
CATEGORIES:Saison 2025/26
END:VEVENT
BEGIN:VEVENT
DTSTAMP:20260420T021632Z
DTSTART;TZID=Europe/Berlin:20260319T191500
DTEND;TZID=Europe/Berlin:20260319T221500
SUMMARY:1. Kreisliga 4 TTC Protesia Hamburg II vs SV Wilhelmsburg III (32)
UID:49bba926-dd63-4312-97ac-e6865fed59dd
STATUS:CONFIRMED
DESCRIPTION:1. Kreisliga 4\nBegegnungs-Nr: 32\nHeim: TTC Protesia Hamburg II\nGast: SV Wilhelmsburg III\n\nAdresse: Imstedt 18-20 über Schulhof\, 22083 Hamburg\n
LOCATION:Imstedt 18-20 über Schulhof\, 22083 Hamburg
CATEGORIES:Saison 2025/26
END:VEVENT
BEGIN:VEVENT
DTSTAMP:20260420T021632Z
DTSTART;TZID=Europe/Berlin:20251016T191500
DTEND;TZID=Europe/Berlin:20251016T221500
SUMMARY:1. Kreisliga 4 TTC Protesia Hamburg II vs TH Eilbeck IX (17)
UID:1bfcad6a-c6fa-477d-b979-c7d349449a7c
STATUS:CONFIRMED
DESCRIPTION:1. Kreisliga 4\nBegegnungs-Nr: 17\nHeim: TTC Protesia Hamburg II\nGast: TH Eilbeck IX\n\nAdresse: Imstedt 18-20 über Schulhof\, 22083 Hamburg\n
LOCATION:Imstedt 18-20 über Schulhof\, 22083 Hamburg
CATEGORIES:Saison 2025/26
END:VEVENT
BEGIN:VEVENT
DTSTAMP:20260420T021632Z
DTSTART;TZID=Europe/Berlin:20260416T191500
DTEND;TZID=Europe/Berlin:20260416T221500
SUMMARY:1. Kreisliga 4 TTC Protesia Hamburg II vs FC St. Pauli V (42)
UID:fff204a9-0976-4460-87b0-b6ecfe5628b5
STATUS:CONFIRMED
DESCRIPTION:1. Kreisliga 4\nBegegnungs-Nr: 42\nHeim: TTC Protesia Hamburg II\nGast: FC St. Pauli V\n\nAdresse: Imstedt 18-20 über Schulhof\, 22083 Hamburg\n
LOCATION:Imstedt 18-20 über Schulhof\, 22083 Hamburg
CATEGORIES:Saison 2025/26
END:VEVENT
BEGIN:VEVENT
DTSTAMP:20260420T021632Z
DTSTART;TZID=Europe/Berlin:20251117T191500
DTEND;TZID=Europe/Berlin:20251117T221500
SUMMARY:1. Kreisliga 4 SV Wilhelmsburg III vs TTC Protesia Hamburg II (32)
UID:f8ecb130-0528-445c-ab12-e451db39e8a6
STATUS:CONFIRMED
DESCRIPTION:1. Kreisliga 4\nBegegnungs-Nr: 32\nHeim: SV Wilhelmsburg III\nGast: TTC Protesia Hamburg II\n\nAdresse: Perlstieg 1\, 21107 Hamburg\n
LOCATION:Perlstieg 1\, 21107 Hamburg
CATEGORIES:Saison 2025/26
END:VEVENT
BEGIN:VEVENT
DTSTAMP:20260420T021632Z
DTSTART;TZID=Europe/Berlin:20251204T193000
DTEND;TZID=Europe/Berlin:20251204T223000
SUMMARY:1. Kreisliga 4 FC St. Pauli V vs TTC Protesia Hamburg II (42)
UID:63120823-fb04-4a1c-87f5-2028cd2a3717
STATUS:CONFIRMED
LAST-MODIFIED:20251210T085219Z
DESCRIPTION:1. Kreisliga 4\nBegegnungs-Nr: 42\nHeim: FC St. Pauli V\nGast: TTC Protesia Hamburg II\n\nAdresse: Laeiszstraße 12\, 20357 Hamburg\n
LOCATION:Laeiszstraße 12\, 20357 Hamburg
CATEGORIES:Saison 2025/26
END:VEVENT
BEGIN:VEVENT
DTSTAMP:20260420T021632Z
DTSTART;TZID=Europe/Berlin:20260313T191500
DTEND;TZID=Europe/Berlin:20260313T221500
SUMMARY:1. Kreisliga 4 TTV Harburg vs TTC Protesia Hamburg II (2)
UID:28283633-95ad-4951-ae2a-af0a1dabd418
STATUS:CONFIRMED
LAST-MODIFIED:20260123T095000Z
DESCRIPTION:1. Kreisliga 4\nBegegnungs-Nr: 2\nHeim: TTV Harburg\nGast: TTC Protesia Hamburg II\n\nAdresse: Hanhoopsfeld 21\, 21079 Hamburg\n
LOCATION:Hanhoopsfeld 21\, 21079 Hamburg
CATEGORIES:Saison 2025/26
END:VEVENT
BEGIN:VEVENT
DTSTAMP:20260420T021632Z
DTSTART;TZID=Europe/Berlin:20260211T194500
DTEND;TZID=Europe/Berlin:20260211T224500
SUMMARY:1. Kreisliga 4 TH Eilbeck IX vs TTC Protesia Hamburg II (17)
UID:3a83a1d8-513a-46d4-b046-9f08af5bc9c7
STATUS:CONFIRMED
DESCRIPTION:1. Kreisliga 4\nBegegnungs-Nr: 17\nHeim: TH Eilbeck IX\nGast: TTC Protesia Hamburg II\n\nAdresse: Richardstraße 85\, 22089 Hamburg\n
LOCATION:Richardstraße 85\, 22089 Hamburg
CATEGORIES:Saison 2025/26
END:VEVENT
BEGIN:VEVENT
DTSTAMP:20260420T021632Z
DTSTART;TZID=Europe/Berlin:20251212T200000
DTEND;TZID=Europe/Berlin:20251212T230000
SUMMARY:1. Kreisliga 4 TV Fischbek II vs TTC Protesia Hamburg II (6)
UID:5347bafa-f7ad-4f88-a6ab-7cf65aa219a4
STATUS:CONFIRMED
LAST-MODIFIED:20250923T061628Z
DESCRIPTION:1. Kreisliga 4\nBegegnungs-Nr: 6\nHeim: TV Fischbek II\nGast: TTC Protesia Hamburg II\n\nAdresse: Schnuckendrift 21\, 21149 Hamburg\n
LOCATION:Schnuckendrift 21\, 21149 Hamburg
CATEGORIES:Saison 2025/26
END:VEVENT
BEGIN:VEVENT
DTSTAMP:20260420T021632Z
DTSTART;TZID=Europe/Berlin:20260225T193000
DTEND;TZID=Europe/Berlin:20260225T223000
SUMMARY:1. Kreisliga 4 SG HTB 65/Harburger SC vs TTC Protesia Hamburg II (27)
UID:e31fa45f-1a22-429b-b507-541f200f1999
STATUS:CONFIRMED
DESCRIPTION:1. Kreisliga 4\nBegegnungs-Nr: 27\nHeim: SG HTB 65/Harburger SC\nGast: TTC Protesia Hamburg II\n\nAdresse: Weusthoffstraße 95\, 21075  Hamburg\n
LOCATION:Weusthoffstraße 95\, 21075  Hamburg
CATEGORIES:Saison 2025/26
END:VEVENT
BEGIN:VEVENT
DTSTAMP:20260420T021632Z
DTSTART;TZID=Europe/Berlin:20260327T193000
DTEND;TZID=Europe/Berlin:20260327T223000
SUMMARY:1. Kreisliga 4 GW Harburg V vs TTC Protesia Hamburg II (37)
UID:6830bc2b-e53a-4588-872e-fb9f13a113c5
STATUS:CONFIRMED
DESCRIPTION:1. Kreisliga 4\nBegegnungs-Nr: 37\nHeim: GW Harburg V\nGast: TTC Protesia Hamburg II\n\nAdresse: Ernst-Bergeest-Weg 54\, 21077  Hamburg\n
LOCATION:Ernst-Bergeest-Weg 54\, 21077  Hamburg
CATEGORIES:Saison 2025/26
END:VEVENT
BEGIN:VEVENT
DTSTAMP:20260420T021632Z
DTSTART;TZID=Europe/Berlin:20251201T193000
DTEND;TZID=Europe/Berlin:20251201T223000
SUMMARY:1. Kreisliga 4 TTSG Urania-Bramfeld VII vs TTC Protesia Hamburg II (12)
UID:c69ede14-3120-48be-84a7-1e7b29d3dac4
STATUS:CONFIRMED
LAST-MODIFIED:20251006T121703Z
DESCRIPTION:1. Kreisliga 4\nBegegnungs-Nr: 12\nHeim: TTSG Urania-Bramfeld VII\nGast: TTC Protesia Hamburg II\n\nAdresse: Lämmersieth 72\, 22305 Hamburg\n
LOCATION:Lämmersieth 72\, 22305 Hamburg
CATEGORIES:Saison 2025/26
END:VEVENT
BEGIN:VEVENT
DTSTAMP:20260420T021632Z
DTSTART;TZID=Europe/Berlin:20251103T193000
DTEND;TZID=Europe/Berlin:20251103T223000
SUMMARY:1. Kreisliga 4 USC Paloma Hamburg II vs TTC Protesia Hamburg II (22)
UID:b8b16812-9237-4d26-b0c4-98b496d14017
STATUS:CONFIRMED
DESCRIPTION:1. Kreisliga 4\nBegegnungs-Nr: 22\nHeim: USC Paloma Hamburg II\nGast: TTC Protesia Hamburg II\n\nAdresse: Brucknerstraße 17\, 22083 Hamburg\n
LOCATION:Brucknerstraße 17\, 22083 Hamburg
CATEGORIES:Saison 2025/26
END:VEVENT
END:VCALENDAR
