BEGIN:VCALENDAR
PRODID:-//nuDatenautomaten//framework iCal4j //DE
VERSION:2.0
CALSCALE:GREGORIAN
BEGIN:VTIMEZONE
TZID:Europe/Berlin
LAST-MODIFIED:20260306T231828Z
TZURL:https://www.tzurl.org/zoneinfo/Europe/Berlin
X-LIC-LOCATION:Europe/Berlin
X-PROLEPTIC-TZNAME:LMT
BEGIN:STANDARD
TZNAME:CET
TZOFFSETFROM:+005328
TZOFFSETTO:+0100
DTSTART:18930401T000000
END:STANDARD
BEGIN:DAYLIGHT
TZNAME:CEST
TZOFFSETFROM:+0100
TZOFFSETTO:+0200
DTSTART:19160430T230000
RDATE:19400401T020000
RDATE:19430329T020000
RDATE:19460414T020000
RDATE:19470406T030000
RDATE:19480418T020000
RDATE:19490410T020000
RDATE:19800406T020000
END:DAYLIGHT
BEGIN:STANDARD
TZNAME:CET
TZOFFSETFROM:+0200
TZOFFSETTO:+0100
DTSTART:19161001T010000
RDATE:19421102T030000
RDATE:19431004T030000
RDATE:19441002T030000
RDATE:19451118T030000
RDATE:19461007T030000
END:STANDARD
BEGIN:DAYLIGHT
TZNAME:CEST
TZOFFSETFROM:+0100
TZOFFSETTO:+0200
DTSTART:19170416T020000
RRULE:FREQ=YEARLY;UNTIL=19180415T010000Z;BYMONTH=4;BYDAY=3MO
END:DAYLIGHT
BEGIN:STANDARD
TZNAME:CET
TZOFFSETFROM:+0200
TZOFFSETTO:+0100
DTSTART:19170917T030000
RRULE:FREQ=YEARLY;UNTIL=19180916T010000Z;BYMONTH=9;BYDAY=3MO
END:STANDARD
BEGIN:DAYLIGHT
TZNAME:CEST
TZOFFSETFROM:+0100
TZOFFSETTO:+0200
DTSTART:19440403T020000
RRULE:FREQ=YEARLY;UNTIL=19450402T010000Z;BYMONTH=4;BYDAY=1MO
END:DAYLIGHT
BEGIN:DAYLIGHT
TZNAME:CEMT
TZOFFSETFROM:+0200
TZOFFSETTO:+0300
DTSTART:19450524T020000
RDATE:19470511T030000
END:DAYLIGHT
BEGIN:DAYLIGHT
TZNAME:CEST
TZOFFSETFROM:+0300
TZOFFSETTO:+0200
DTSTART:19450924T030000
RDATE:19470629T030000
END:DAYLIGHT
BEGIN:STANDARD
TZNAME:CET
TZOFFSETFROM:+0100
TZOFFSETTO:+0100
DTSTART:19460101T000000
RDATE:19800101T000000
END:STANDARD
BEGIN:STANDARD
TZNAME:CET
TZOFFSETFROM:+0200
TZOFFSETTO:+0100
DTSTART:19471005T030000
RRULE:FREQ=YEARLY;UNTIL=19491002T010000Z;BYMONTH=10;BYDAY=1SU
END:STANDARD
BEGIN:STANDARD
TZNAME:CET
TZOFFSETFROM:+0200
TZOFFSETTO:+0100
DTSTART:19800928T030000
RRULE:FREQ=YEARLY;UNTIL=19950924T010000Z;BYMONTH=9;BYDAY=-1SU
END:STANDARD
BEGIN:DAYLIGHT
TZNAME:CEST
TZOFFSETFROM:+0100
TZOFFSETTO:+0200
DTSTART:19810329T020000
RRULE:FREQ=YEARLY;BYMONTH=3;BYDAY=-1SU
END:DAYLIGHT
BEGIN:STANDARD
TZNAME:CET
TZOFFSETFROM:+0200
TZOFFSETTO:+0100
DTSTART:19961027T030000
RRULE:FREQ=YEARLY;BYMONTH=10;BYDAY=-1SU
END:STANDARD
END:VTIMEZONE
BEGIN:VEVENT
DTSTAMP:20260420T001336Z
DTSTART;TZID=Europe/Berlin:20090130T200000
DTEND;TZID=Europe/Berlin:20090130T230000
SUMMARY:2.Kreisklasse TV 1886 Igstadt III vs TV 1877 Kostheim II (8)
UID:600e4e55-b18e-3ce1-e053-1fc7a80a6bb5
STATUS:CONFIRMED
LAST-MODIFIED:20090205T224814Z
DESCRIPTION:Herren 2.Kreisklasse\nBegegnungs-Nr: 8\nHeim: TV 1886 Igstadt III\nGast: TV 1877 Kostheim II\n\nAdresse: Hauptstraße 15\, 65207 Wiesbaden-Igstadt\n
LOCATION:Hauptstraße 15\, 65207 Wiesbaden-Igstadt
CATEGORIES:Saison 2008/09
END:VEVENT
BEGIN:VEVENT
DTSTAMP:20260420T001336Z
DTSTART;TZID=Europe/Berlin:20090313T200000
DTEND;TZID=Europe/Berlin:20090313T230000
SUMMARY:2.Kreisklasse TV 1886 Igstadt III vs TV 1881 Bierstadt III (28)
UID:600e4e26-fbcc-3ce1-e053-1fc7a80a6bb5
STATUS:CONFIRMED
LAST-MODIFIED:20090319T220512Z
DESCRIPTION:Herren 2.Kreisklasse\nBegegnungs-Nr: 28\nHeim: TV 1886 Igstadt III\nGast: TV 1881 Bierstadt III\n\nAdresse: Hauptstraße 15\, 65207 Wiesbaden-Igstadt\n
LOCATION:Hauptstraße 15\, 65207 Wiesbaden-Igstadt
CATEGORIES:Saison 2008/09
END:VEVENT
BEGIN:VEVENT
DTSTAMP:20260420T001336Z
DTSTART;TZID=Europe/Berlin:20090403T200000
DTEND;TZID=Europe/Berlin:20090403T230000
SUMMARY:2.Kreisklasse TV 1886 Igstadt III vs TV 1846 Erbenheim IV (36)
UID:600e4e26-fbd4-3ce1-e053-1fc7a80a6bb5
STATUS:CONFIRMED
LAST-MODIFIED:20090427T200053Z
DESCRIPTION:Herren 2.Kreisklasse\nBegegnungs-Nr: 36\nHeim: TV 1886 Igstadt III\nGast: TV 1846 Erbenheim IV\n\nAdresse: Hauptstraße 15\, 65207 Wiesbaden-Igstadt\n
LOCATION:Hauptstraße 15\, 65207 Wiesbaden-Igstadt
CATEGORIES:Saison 2008/09
END:VEVENT
BEGIN:VEVENT
DTSTAMP:20260420T001336Z
DTSTART;TZID=Europe/Berlin:20090317T200000
DTEND;TZID=Europe/Berlin:20090317T230000
SUMMARY:2.Kreisklasse TV 1886 Igstadt III vs TV Waldstraße Wiesbaden (19)
UID:600e4e26-fbd5-3ce1-e053-1fc7a80a6bb5
STATUS:CONFIRMED
LAST-MODIFIED:20090319T220612Z
DESCRIPTION:Herren 2.Kreisklasse\nBegegnungs-Nr: 19\nHeim: TV 1886 Igstadt III\nGast: TV Waldstraße Wiesbaden\n\nAdresse: Hauptstraße 15\, 65207 Wiesbaden-Igstadt\n
LOCATION:Hauptstraße 15\, 65207 Wiesbaden-Igstadt
CATEGORIES:Saison 2008/09
END:VEVENT
BEGIN:VEVENT
DTSTAMP:20260420T001336Z
DTSTART;TZID=Europe/Berlin:20090320T200000
DTEND;TZID=Europe/Berlin:20090320T230000
SUMMARY:2.Kreisklasse TV 1886 Igstadt III vs TuS Et. Wiesbaden 1846 III (11)
UID:600e4e26-fd7a-3ce1-e053-1fc7a80a6bb5
STATUS:CONFIRMED
LAST-MODIFIED:20090329T134722Z
DESCRIPTION:Herren 2.Kreisklasse\nBegegnungs-Nr: 11\nHeim: TV 1886 Igstadt III\nGast: TuS Et. Wiesbaden 1846 III\n\nAdresse: Hauptstraße 15\, 65207 Wiesbaden-Igstadt\n
LOCATION:Hauptstraße 15\, 65207 Wiesbaden-Igstadt
CATEGORIES:Saison 2008/09
END:VEVENT
BEGIN:VEVENT
DTSTAMP:20260420T001336Z
DTSTART;TZID=Europe/Berlin:20081128T200000
DTEND;TZID=Europe/Berlin:20081128T230000
SUMMARY:2.Kreisklasse TV 1886 Igstadt III vs SV Blau-Gelb Wiesbaden (31)
UID:600e4e26-fd86-3ce1-e053-1fc7a80a6bb5
STATUS:CONFIRMED
LAST-MODIFIED:20081209T214302Z
DESCRIPTION:Herren 2.Kreisklasse\nBegegnungs-Nr: 31\nHeim: TV 1886 Igstadt III\nGast: SV Blau-Gelb Wiesbaden\n\nAdresse: Hauptstraße 15\, 65207 Wiesbaden-Igstadt\n
LOCATION:Hauptstraße 15\, 65207 Wiesbaden-Igstadt
CATEGORIES:Saison 2008/09
END:VEVENT
BEGIN:VEVENT
DTSTAMP:20260420T001336Z
DTSTART;TZID=Europe/Berlin:20081107T200000
DTEND;TZID=Europe/Berlin:20081107T230000
SUMMARY:2.Kreisklasse TV 1886 Igstadt III vs TuS Dotzheim 1848 IV (22)
UID:600e4e26-fd8e-3ce1-e053-1fc7a80a6bb5
STATUS:CONFIRMED
LAST-MODIFIED:20081121T193549Z
DESCRIPTION:Herren 2.Kreisklasse\nBegegnungs-Nr: 22\nHeim: TV 1886 Igstadt III\nGast: TuS Dotzheim 1848 IV\n\nAdresse: Hauptstraße 15\, 65207 Wiesbaden-Igstadt\n
LOCATION:Hauptstraße 15\, 65207 Wiesbaden-Igstadt
CATEGORIES:Saison 2008/09
END:VEVENT
BEGIN:VEVENT
DTSTAMP:20260420T001336Z
DTSTART;TZID=Europe/Berlin:20081024T200000
DTEND;TZID=Europe/Berlin:20081024T230000
SUMMARY:2.Kreisklasse TV 1886 Igstadt III vs 1. SC Klarenthal 1968 V (14)
UID:600e4e27-011f-3ce1-e053-1fc7a80a6bb5
STATUS:CONFIRMED
LAST-MODIFIED:20081025T115026Z
DESCRIPTION:Herren 2.Kreisklasse\nBegegnungs-Nr: 14\nHeim: TV 1886 Igstadt III\nGast: 1. SC Klarenthal 1968 V\n\nAdresse: Hauptstraße 15\, 65207 Wiesbaden-Igstadt\n
LOCATION:Hauptstraße 15\, 65207 Wiesbaden-Igstadt
CATEGORIES:Saison 2008/09
END:VEVENT
BEGIN:VEVENT
DTSTAMP:20260420T001336Z
DTSTART;TZID=Europe/Berlin:20090327T193000
DTEND;TZID=Europe/Berlin:20090327T223000
SUMMARY:2.Kreisklasse SV Blau-Gelb Wiesbaden vs TV 1886 Igstadt III (31)
UID:600e4e26-fbc9-3ce1-e053-1fc7a80a6bb5
STATUS:CONFIRMED
LAST-MODIFIED:20090329T134546Z
DESCRIPTION:Herren 2.Kreisklasse\nBegegnungs-Nr: 31\nHeim: SV Blau-Gelb Wiesbaden\nGast: TV 1886 Igstadt III\n\nAdresse: Eingang Homburger Str. Lehrerparkplatz\, 65197 Wiesbaden\n
LOCATION:Eingang Homburger Str. Lehrerparkplatz\, 65197 Wiesbaden
CATEGORIES:Saison 2008/09
END:VEVENT
BEGIN:VEVENT
DTSTAMP:20260420T001336Z
DTSTART;TZID=Europe/Berlin:20090306T193000
DTEND;TZID=Europe/Berlin:20090306T223000
SUMMARY:2.Kreisklasse TuS Dotzheim 1848 IV vs TV 1886 Igstadt III (22)
UID:600e4e26-fbd1-3ce1-e053-1fc7a80a6bb5
STATUS:CONFIRMED
LAST-MODIFIED:20090312T223108Z
DESCRIPTION:Herren 2.Kreisklasse\nBegegnungs-Nr: 22\nHeim: TuS Dotzheim 1848 IV\nGast: TV 1886 Igstadt III\n\nAdresse: Eingang Glockengasse\, 65199 Wiesbaden-Dotzheim\n
LOCATION:Eingang Glockengasse\, 65199 Wiesbaden-Dotzheim
CATEGORIES:Saison 2008/09
END:VEVENT
BEGIN:VEVENT
DTSTAMP:20260420T001336Z
DTSTART;TZID=Europe/Berlin:20090210T201500
DTEND;TZID=Europe/Berlin:20090210T231500
SUMMARY:2.Kreisklasse 1. SC Klarenthal 1968 V vs TV 1886 Igstadt III (14)
UID:600e4e26-fbd9-3ce1-e053-1fc7a80a6bb5
STATUS:CONFIRMED
LAST-MODIFIED:20090215T230257Z
DESCRIPTION:Herren 2.Kreisklasse\nBegegnungs-Nr: 14\nHeim: 1. SC Klarenthal 1968 V\nGast: TV 1886 Igstadt III\n\nAdresse: Geschw.-Scholl-Straße\, 65197 Wiesbaden-Klarenthal\n
LOCATION:Geschw.-Scholl-Straße\, 65197 Wiesbaden-Klarenthal
CATEGORIES:Saison 2008/09
END:VEVENT
BEGIN:VEVENT
DTSTAMP:20260420T001336Z
DTSTART;TZID=Europe/Berlin:20081028T200000
DTEND;TZID=Europe/Berlin:20081028T230000
SUMMARY:2.Kreisklasse TV Waldstraße Wiesbaden vs TV 1886 Igstadt III (16)
UID:600e4e27-011d-3ce1-e053-1fc7a80a6bb5
STATUS:CONFIRMED
LAST-MODIFIED:20081101T112259Z
DESCRIPTION:Herren 2.Kreisklasse\nBegegnungs-Nr: 16\nHeim: TV Waldstraße Wiesbaden\nGast: TV 1886 Igstadt III\n\nAdresse: Buchenstraße 2\, 65187 Wiesbaden\n
LOCATION:Buchenstraße 2\, 65187 Wiesbaden
CATEGORIES:Saison 2008/09
END:VEVENT
BEGIN:VEVENT
DTSTAMP:20260420T001336Z
DTSTART;TZID=Europe/Berlin:20080926T193000
DTEND;TZID=Europe/Berlin:20080926T223000
SUMMARY:2.Kreisklasse TuS Et. Wiesbaden 1846 III vs TV 1886 Igstadt III (9)
UID:600e4e27-0121-3ce1-e053-1fc7a80a6bb5
STATUS:CONFIRMED
LAST-MODIFIED:20081106T215916Z
DESCRIPTION:Herren 2.Kreisklasse\nBegegnungs-Nr: 9\nHeim: TuS Et. Wiesbaden 1846 III\nGast: TV 1886 Igstadt III\n\nAdresse: Eingang Karlstraße\, 65185 Wiesbaden\n
LOCATION:Eingang Karlstraße\, 65185 Wiesbaden
CATEGORIES:Saison 2008/09
END:VEVENT
BEGIN:VEVENT
DTSTAMP:20260420T001336Z
DTSTART;TZID=Europe/Berlin:20080919T201500
DTEND;TZID=Europe/Berlin:20080919T231500
SUMMARY:2.Kreisklasse TV 1877 Kostheim II vs TV 1886 Igstadt III (6)
UID:600e4e27-0125-3ce1-e053-1fc7a80a6bb5
STATUS:CONFIRMED
LAST-MODIFIED:20081025T114255Z
DESCRIPTION:Herren 2.Kreisklasse\nBegegnungs-Nr: 6\nHeim: TV 1877 Kostheim II\nGast: TV 1886 Igstadt III\n\nAdresse: Hauptstraße 12\, 55246 Mainz-Kostheim\n
LOCATION:Hauptstraße 12\, 55246 Mainz-Kostheim
CATEGORIES:Saison 2008/09
END:VEVENT
BEGIN:VEVENT
DTSTAMP:20260420T001336Z
DTSTART;TZID=Europe/Berlin:20081205T193000
DTEND;TZID=Europe/Berlin:20081205T223000
SUMMARY:2.Kreisklasse TV 1846 Erbenheim IV vs TV 1886 Igstadt III (33)
UID:600e4e53-759a-3ce1-e053-1fc7a80a6bb5
STATUS:CONFIRMED
LAST-MODIFIED:20081209T214610Z
DESCRIPTION:Herren 2.Kreisklasse\nBegegnungs-Nr: 33\nHeim: TV 1846 Erbenheim IV\nGast: TV 1886 Igstadt III\n\nAdresse: Tempelhoferstraße 57\, 65205 Wiesbaden\n
LOCATION:Tempelhoferstraße 57\, 65205 Wiesbaden
CATEGORIES:Saison 2008/09
END:VEVENT
BEGIN:VEVENT
DTSTAMP:20260420T001336Z
DTSTART;TZID=Europe/Berlin:20081121T193000
DTEND;TZID=Europe/Berlin:20081121T223000
SUMMARY:2.Kreisklasse TV 1881 Bierstadt III vs TV 1886 Igstadt III (26)
UID:600e4e26-fd8b-3ce1-e053-1fc7a80a6bb5
STATUS:CONFIRMED
LAST-MODIFIED:20081209T213740Z
DESCRIPTION:Herren 2.Kreisklasse\nBegegnungs-Nr: 26\nHeim: TV 1881 Bierstadt III\nGast: TV 1886 Igstadt III\n\nAdresse: Fliednerstraße\, Eingang über Parkplatz Biegerstraße\, 65191 Wiesbaden\n
LOCATION:Fliednerstraße\, Eingang über Parkplatz Biegerstraße\, 65191 Wiesbaden
CATEGORIES:Saison 2008/09
END:VEVENT
END:VCALENDAR
